BEGIN:VCALENDAR
VERSION:2.0
PRODID:-//Wellmaster - ECPv6.15.18//NONSGML v1.0//EN
CALSCALE:GREGORIAN
METHOD:PUBLISH
X-ORIGINAL-URL:https://picksix.wellmaster.ca
X-WR-CALDESC:Events for Wellmaster
REFRESH-INTERVAL;VALUE=DURATION:PT1H
X-Robots-Tag:noindex
X-PUBLISHED-TTL:PT1H
BEGIN:VTIMEZONE
TZID:America/Toronto
BEGIN:DAYLIGHT
TZOFFSETFROM:-0500
TZOFFSETTO:-0400
TZNAME:EDT
DTSTART:20190310T070000
END:DAYLIGHT
BEGIN:STANDARD
TZOFFSETFROM:-0400
TZOFFSETTO:-0500
TZNAME:EST
DTSTART:20191103T060000
END:STANDARD
BEGIN:DAYLIGHT
TZOFFSETFROM:-0500
TZOFFSETTO:-0400
TZNAME:EDT
DTSTART:20200308T070000
END:DAYLIGHT
BEGIN:STANDARD
TZOFFSETFROM:-0400
TZOFFSETTO:-0500
TZNAME:EST
DTSTART:20201101T060000
END:STANDARD
BEGIN:DAYLIGHT
TZOFFSETFROM:-0500
TZOFFSETTO:-0400
TZNAME:EDT
DTSTART:20210314T070000
END:DAYLIGHT
BEGIN:STANDARD
TZOFFSETFROM:-0400
TZOFFSETTO:-0500
TZNAME:EST
DTSTART:20211107T060000
END:STANDARD
BEGIN:DAYLIGHT
TZOFFSETFROM:-0500
TZOFFSETTO:-0400
TZNAME:EDT
DTSTART:20220313T070000
END:DAYLIGHT
BEGIN:STANDARD
TZOFFSETFROM:-0400
TZOFFSETTO:-0500
TZNAME:EST
DTSTART:20221106T060000
END:STANDARD
END:VTIMEZONE
BEGIN:VEVENT
DTSTART;VALUE=DATE:20210106
DTEND;VALUE=DATE:20210107
DTSTAMP:20260424T074641
CREATED:20210105T125459Z
LAST-MODIFIED:20210105T125459Z
UID:20100-1609891200-1609977599@picksix.wellmaster.ca
SUMMARY:TORONTO
DESCRIPTION:
URL:https://picksix.wellmaster.ca/delivery/toronto-20/
CATEGORIES:Green
END:VEVENT
BEGIN:VEVENT
DTSTART;VALUE=DATE:20210106
DTEND;VALUE=DATE:20210107
DTSTAMP:20260424T074641
CREATED:20210105T125443Z
LAST-MODIFIED:20210105T125443Z
UID:20098-1609891200-1609977599@picksix.wellmaster.ca
SUMMARY:BARRIE
DESCRIPTION:
URL:https://picksix.wellmaster.ca/delivery/barrie-21/
CATEGORIES:Black
END:VEVENT
BEGIN:VEVENT
DTSTART;VALUE=DATE:20210105
DTEND;VALUE=DATE:20210106
DTSTAMP:20260424T074641
CREATED:20210104T120142Z
LAST-MODIFIED:20210104T120142Z
UID:20058-1609804800-1609891199@picksix.wellmaster.ca
SUMMARY:LONDON
DESCRIPTION:
URL:https://picksix.wellmaster.ca/delivery/london-14/
CATEGORIES:Green
END:VEVENT
BEGIN:VEVENT
DTSTART;VALUE=DATE:20210104
DTEND;VALUE=DATE:20210105
DTSTAMP:20260424T074641
CREATED:20210104T120051Z
LAST-MODIFIED:20210104T120051Z
UID:20056-1609718400-1609804799@picksix.wellmaster.ca
SUMMARY:GUELPH
DESCRIPTION:
URL:https://picksix.wellmaster.ca/delivery/guelph-27/
CATEGORIES:Black
END:VEVENT
BEGIN:VEVENT
DTSTART;VALUE=DATE:20210101
DTEND;VALUE=DATE:20210102
DTSTAMP:20260424T074641
CREATED:20201217T133643Z
LAST-MODIFIED:20201217T133643Z
UID:19416-1609459200-1609545599@picksix.wellmaster.ca
SUMMARY:HAPPY NEW YEAR
DESCRIPTION:
URL:https://picksix.wellmaster.ca/delivery/happy-new-year/
CATEGORIES:Red
END:VEVENT
BEGIN:VEVENT
DTSTART;VALUE=DATE:20201225
DTEND;VALUE=DATE:20201226
DTSTAMP:20260424T074641
CREATED:20201217T133622Z
LAST-MODIFIED:20201217T133622Z
UID:19414-1608854400-1608940799@picksix.wellmaster.ca
SUMMARY:MERRY CHRISTMAS
DESCRIPTION:
URL:https://picksix.wellmaster.ca/delivery/merry-christmas/
CATEGORIES:Green
END:VEVENT
BEGIN:VEVENT
DTSTART;VALUE=DATE:20201224
DTEND;VALUE=DATE:20201225
DTSTAMP:20260424T074641
CREATED:20201223T131655Z
LAST-MODIFIED:20201223T131655Z
UID:19623-1608768000-1608854399@picksix.wellmaster.ca
SUMMARY:STRATHROY
DESCRIPTION:
URL:https://picksix.wellmaster.ca/delivery/strathroy-13/
CATEGORIES:Red
END:VEVENT
BEGIN:VEVENT
DTSTART;VALUE=DATE:20201223
DTEND;VALUE=DATE:20201224
DTSTAMP:20260424T074641
CREATED:20201222T134719Z
LAST-MODIFIED:20201222T134719Z
UID:19587-1608681600-1608767999@picksix.wellmaster.ca
SUMMARY:BARRIE
DESCRIPTION:
URL:https://picksix.wellmaster.ca/delivery/barrie-20/
CATEGORIES:Green
END:VEVENT
BEGIN:VEVENT
DTSTART;VALUE=DATE:20201223
DTEND;VALUE=DATE:20201224
DTSTAMP:20260424T074641
CREATED:20201222T134658Z
LAST-MODIFIED:20201222T134658Z
UID:19585-1608681600-1608767999@picksix.wellmaster.ca
SUMMARY:CAMBRIDGE
DESCRIPTION:
URL:https://picksix.wellmaster.ca/delivery/cambridge-7/
CATEGORIES:Black
END:VEVENT
BEGIN:VEVENT
DTSTART;VALUE=DATE:20201222
DTEND;VALUE=DATE:20201223
DTSTAMP:20260424T074641
CREATED:20201221T203517Z
LAST-MODIFIED:20201221T203517Z
UID:19545-1608595200-1608681599@picksix.wellmaster.ca
SUMMARY:GODERICH
DESCRIPTION:
URL:https://picksix.wellmaster.ca/delivery/goderich-11/
CATEGORIES:Black
END:VEVENT
BEGIN:VEVENT
DTSTART;VALUE=DATE:20201218
DTEND;VALUE=DATE:20201219
DTSTAMP:20260424T074641
CREATED:20201217T162404Z
LAST-MODIFIED:20201217T162404Z
UID:19430-1608249600-1608335999@picksix.wellmaster.ca
SUMMARY:BRANTFORD
DESCRIPTION:
URL:https://picksix.wellmaster.ca/delivery/brantford-2/
CATEGORIES:Green
END:VEVENT
BEGIN:VEVENT
DTSTART;TZID=America/Toronto:20201217T080000
DTEND;TZID=America/Toronto:20201217T170000
DTSTAMP:20260424T074641
CREATED:20201217T162331Z
LAST-MODIFIED:20201217T162331Z
UID:19428-1608192000-1608224400@picksix.wellmaster.ca
SUMMARY:MILVERTON
DESCRIPTION:
URL:https://picksix.wellmaster.ca/delivery/milverton/
CATEGORIES:Green
END:VEVENT
BEGIN:VEVENT
DTSTART;VALUE=DATE:20201217
DTEND;VALUE=DATE:20201218
DTSTAMP:20260424T074641
CREATED:20201217T162309Z
LAST-MODIFIED:20201217T162309Z
UID:19426-1608163200-1608249599@picksix.wellmaster.ca
SUMMARY:GUELPH
DESCRIPTION:
URL:https://picksix.wellmaster.ca/delivery/guelph-26/
CATEGORIES:Red
END:VEVENT
BEGIN:VEVENT
DTSTART;VALUE=DATE:20201216
DTEND;VALUE=DATE:20201217
DTSTAMP:20260424T074641
CREATED:20201215T185433Z
LAST-MODIFIED:20201215T185433Z
UID:19372-1608076800-1608163199@picksix.wellmaster.ca
SUMMARY:GODERICH
DESCRIPTION:
URL:https://picksix.wellmaster.ca/delivery/goderich-10/
CATEGORIES:Black
END:VEVENT
BEGIN:VEVENT
DTSTART;VALUE=DATE:20201215
DTEND;VALUE=DATE:20201216
DTSTAMP:20260424T074641
CREATED:20201214T131253Z
LAST-MODIFIED:20201214T131253Z
UID:19276-1607990400-1608076799@picksix.wellmaster.ca
SUMMARY:FORT ERIE
DESCRIPTION:
URL:https://picksix.wellmaster.ca/delivery/fort-erie/
CATEGORIES:Black
END:VEVENT
BEGIN:VEVENT
DTSTART;VALUE=DATE:20201214
DTEND;VALUE=DATE:20201215
DTSTAMP:20260424T074641
CREATED:20201211T165027Z
LAST-MODIFIED:20201211T165027Z
UID:19199-1607904000-1607990399@picksix.wellmaster.ca
SUMMARY:LUCAN
DESCRIPTION:
URL:https://picksix.wellmaster.ca/delivery/lucan-24/
CATEGORIES:Black
END:VEVENT
BEGIN:VEVENT
DTSTART;VALUE=DATE:20201211
DTEND;VALUE=DATE:20201212
DTSTAMP:20260424T074641
CREATED:20201210T152531Z
LAST-MODIFIED:20201210T152531Z
UID:19170-1607644800-1607731199@picksix.wellmaster.ca
SUMMARY:CAMBRIDGE
DESCRIPTION:
URL:https://picksix.wellmaster.ca/delivery/cambridge-6/
CATEGORIES:Green
END:VEVENT
BEGIN:VEVENT
DTSTART;VALUE=DATE:20201211
DTEND;VALUE=DATE:20201212
DTSTAMP:20260424T074641
CREATED:20201210T152513Z
LAST-MODIFIED:20201210T152513Z
UID:19168-1607644800-1607731199@picksix.wellmaster.ca
SUMMARY:STRATHROY
DESCRIPTION:
URL:https://picksix.wellmaster.ca/delivery/strathroy-12/
CATEGORIES:Black
END:VEVENT
BEGIN:VEVENT
DTSTART;VALUE=DATE:20201211
DTEND;VALUE=DATE:20201212
DTSTAMP:20260424T074641
CREATED:20201210T152457Z
LAST-MODIFIED:20201210T152457Z
UID:19166-1607644800-1607731199@picksix.wellmaster.ca
SUMMARY:OSHAWA
DESCRIPTION:
URL:https://picksix.wellmaster.ca/delivery/oshawa/
CATEGORIES:Red
END:VEVENT
BEGIN:VEVENT
DTSTART;VALUE=DATE:20201210
DTEND;VALUE=DATE:20201211
DTSTAMP:20260424T074641
CREATED:20201209T154445Z
LAST-MODIFIED:20201209T154445Z
UID:19132-1607558400-1607644799@picksix.wellmaster.ca
SUMMARY:NIAGARA
DESCRIPTION:
URL:https://picksix.wellmaster.ca/delivery/niagara-3/
CATEGORIES:Red
END:VEVENT
BEGIN:VEVENT
DTSTART;VALUE=DATE:20201210
DTEND;VALUE=DATE:20201211
DTSTAMP:20260424T074641
CREATED:20201209T154421Z
LAST-MODIFIED:20201209T154421Z
UID:19130-1607558400-1607644799@picksix.wellmaster.ca
SUMMARY:BEAMSVILLE
DESCRIPTION:
URL:https://picksix.wellmaster.ca/delivery/beamsville/
CATEGORIES:Green
END:VEVENT
BEGIN:VEVENT
DTSTART;VALUE=DATE:20201210
DTEND;VALUE=DATE:20201211
DTSTAMP:20260424T074641
CREATED:20201209T154405Z
LAST-MODIFIED:20201209T154405Z
UID:19128-1607558400-1607644799@picksix.wellmaster.ca
SUMMARY:BARRIE
DESCRIPTION:
URL:https://picksix.wellmaster.ca/delivery/barrie-19/
CATEGORIES:Black
END:VEVENT
BEGIN:VEVENT
DTSTART;VALUE=DATE:20201209
DTEND;VALUE=DATE:20201210
DTSTAMP:20260424T074641
CREATED:20201208T185537Z
LAST-MODIFIED:20201208T185537Z
UID:19093-1607472000-1607558399@picksix.wellmaster.ca
SUMMARY:TARA
DESCRIPTION:
URL:https://picksix.wellmaster.ca/delivery/tara-2/
CATEGORIES:Green
END:VEVENT
BEGIN:VEVENT
DTSTART;VALUE=DATE:20201209
DTEND;VALUE=DATE:20201210
DTSTAMP:20260424T074641
CREATED:20201208T185409Z
LAST-MODIFIED:20201208T185409Z
UID:19091-1607472000-1607558399@picksix.wellmaster.ca
SUMMARY:LONDON
DESCRIPTION:
URL:https://picksix.wellmaster.ca/delivery/london-13/
CATEGORIES:Black
END:VEVENT
BEGIN:VEVENT
DTSTART;VALUE=DATE:20201208
DTEND;VALUE=DATE:20201209
DTSTAMP:20260424T074641
CREATED:20201207T164615Z
LAST-MODIFIED:20201207T164615Z
UID:19062-1607385600-1607471999@picksix.wellmaster.ca
SUMMARY:GODERICH
DESCRIPTION:
URL:https://picksix.wellmaster.ca/delivery/goderich-9/
CATEGORIES:Black
END:VEVENT
BEGIN:VEVENT
DTSTART;VALUE=DATE:20201208
DTEND;VALUE=DATE:20201209
DTSTAMP:20260424T074641
CREATED:20201207T164557Z
LAST-MODIFIED:20201207T164557Z
UID:19060-1607385600-1607471999@picksix.wellmaster.ca
SUMMARY:LONDON
DESCRIPTION:
URL:https://picksix.wellmaster.ca/delivery/london-12/
CATEGORIES:Green
END:VEVENT
BEGIN:VEVENT
DTSTART;VALUE=DATE:20201207
DTEND;VALUE=DATE:20201208
DTSTAMP:20260424T074641
CREATED:20201204T145852Z
LAST-MODIFIED:20201204T145852Z
UID:18991-1607299200-1607385599@picksix.wellmaster.ca
SUMMARY:ST MARYS
DESCRIPTION:
URL:https://picksix.wellmaster.ca/delivery/st-marys-3/
CATEGORIES:Green
END:VEVENT
BEGIN:VEVENT
DTSTART;VALUE=DATE:20201207
DTEND;VALUE=DATE:20201208
DTSTAMP:20260424T074641
CREATED:20201204T145804Z
LAST-MODIFIED:20201204T145804Z
UID:18989-1607299200-1607385599@picksix.wellmaster.ca
SUMMARY:SARNIA
DESCRIPTION:
URL:https://picksix.wellmaster.ca/delivery/sarnia-5/
CATEGORIES:Black
END:VEVENT
BEGIN:VEVENT
DTSTART;VALUE=DATE:20201204
DTEND;VALUE=DATE:20201205
DTSTAMP:20260424T074641
CREATED:20201203T164143Z
LAST-MODIFIED:20201203T164143Z
UID:18964-1607040000-1607126399@picksix.wellmaster.ca
SUMMARY:ORANGEVILLE/MISSISSAUGA
DESCRIPTION:
URL:https://picksix.wellmaster.ca/delivery/orangeville-mississauga/
CATEGORIES:Black
END:VEVENT
BEGIN:VEVENT
DTSTART;VALUE=DATE:20201203
DTEND;VALUE=DATE:20201204
DTSTAMP:20260424T074641
CREATED:20201202T144610Z
LAST-MODIFIED:20201202T144610Z
UID:18916-1606953600-1607039999@picksix.wellmaster.ca
SUMMARY:HAMILTON
DESCRIPTION:
URL:https://picksix.wellmaster.ca/delivery/hamilton-3/
CATEGORIES:Green
END:VEVENT
END:VCALENDAR