BEGIN:VCALENDAR
VERSION:2.0
PRODID:-//Wellmaster - ECPv6.15.18//NONSGML v1.0//EN
CALSCALE:GREGORIAN
METHOD:PUBLISH
X-ORIGINAL-URL:https://picksix.wellmaster.ca
X-WR-CALDESC:Events for Wellmaster
REFRESH-INTERVAL;VALUE=DURATION:PT1H
X-Robots-Tag:noindex
X-PUBLISHED-TTL:PT1H
BEGIN:VTIMEZONE
TZID:America/Toronto
BEGIN:DAYLIGHT
TZOFFSETFROM:-0500
TZOFFSETTO:-0400
TZNAME:EDT
DTSTART:20190310T070000
END:DAYLIGHT
BEGIN:STANDARD
TZOFFSETFROM:-0400
TZOFFSETTO:-0500
TZNAME:EST
DTSTART:20191103T060000
END:STANDARD
BEGIN:DAYLIGHT
TZOFFSETFROM:-0500
TZOFFSETTO:-0400
TZNAME:EDT
DTSTART:20200308T070000
END:DAYLIGHT
BEGIN:STANDARD
TZOFFSETFROM:-0400
TZOFFSETTO:-0500
TZNAME:EST
DTSTART:20201101T060000
END:STANDARD
BEGIN:DAYLIGHT
TZOFFSETFROM:-0500
TZOFFSETTO:-0400
TZNAME:EDT
DTSTART:20210314T070000
END:DAYLIGHT
BEGIN:STANDARD
TZOFFSETFROM:-0400
TZOFFSETTO:-0500
TZNAME:EST
DTSTART:20211107T060000
END:STANDARD
BEGIN:DAYLIGHT
TZOFFSETFROM:-0500
TZOFFSETTO:-0400
TZNAME:EDT
DTSTART:20220313T070000
END:DAYLIGHT
BEGIN:STANDARD
TZOFFSETFROM:-0400
TZOFFSETTO:-0500
TZNAME:EST
DTSTART:20221106T060000
END:STANDARD
END:VTIMEZONE
BEGIN:VEVENT
DTSTART;VALUE=DATE:20210128
DTEND;VALUE=DATE:20210129
DTSTAMP:20260422T151321
CREATED:20210127T130322Z
LAST-MODIFIED:20210127T130322Z
UID:20730-1611792000-1611878399@picksix.wellmaster.ca
SUMMARY:KITCHENER
DESCRIPTION:
URL:https://picksix.wellmaster.ca/delivery/kitchener-10/
CATEGORIES:Black
END:VEVENT
BEGIN:VEVENT
DTSTART;VALUE=DATE:20210127
DTEND;VALUE=DATE:20210128
DTSTAMP:20260422T151321
CREATED:20210126T132917Z
LAST-MODIFIED:20210126T132917Z
UID:20723-1611705600-1611791999@picksix.wellmaster.ca
SUMMARY:BARRIE
DESCRIPTION:
URL:https://picksix.wellmaster.ca/delivery/barrie-22/
CATEGORIES:Black
END:VEVENT
BEGIN:VEVENT
DTSTART;VALUE=DATE:20210126
DTEND;VALUE=DATE:20210127
DTSTAMP:20260422T151321
CREATED:20210125T184755Z
LAST-MODIFIED:20210125T184755Z
UID:20705-1611619200-1611705599@picksix.wellmaster.ca
SUMMARY:OAKVILLE
DESCRIPTION:
URL:https://picksix.wellmaster.ca/delivery/oakville-7/
CATEGORIES:Green
END:VEVENT
BEGIN:VEVENT
DTSTART;VALUE=DATE:20210126
DTEND;VALUE=DATE:20210127
DTSTAMP:20260422T151321
CREATED:20210125T184551Z
LAST-MODIFIED:20210125T184551Z
UID:20703-1611619200-1611705599@picksix.wellmaster.ca
SUMMARY:STRATHROY
DESCRIPTION:
URL:https://picksix.wellmaster.ca/delivery/strathroy-15/
CATEGORIES:Black
END:VEVENT
BEGIN:VEVENT
DTSTART;VALUE=DATE:20210125
DTEND;VALUE=DATE:20210126
DTSTAMP:20260422T151321
CREATED:20210122T114737Z
LAST-MODIFIED:20210122T114737Z
UID:20637-1611532800-1611619199@picksix.wellmaster.ca
SUMMARY:GUELPH
DESCRIPTION:
URL:https://picksix.wellmaster.ca/delivery/guelph-28/
CATEGORIES:Green
END:VEVENT
BEGIN:VEVENT
DTSTART;VALUE=DATE:20210125
DTEND;VALUE=DATE:20210126
DTSTAMP:20260422T151321
CREATED:20210122T114721Z
LAST-MODIFIED:20210122T114721Z
UID:20635-1611532800-1611619199@picksix.wellmaster.ca
SUMMARY:KITCHENER
DESCRIPTION:
URL:https://picksix.wellmaster.ca/delivery/kitchener-9/
CATEGORIES:Black
END:VEVENT
BEGIN:VEVENT
DTSTART;VALUE=DATE:20210122
DTEND;VALUE=DATE:20210123
DTSTAMP:20260422T151321
CREATED:20210121T161940Z
LAST-MODIFIED:20210121T161940Z
UID:20608-1611273600-1611359999@picksix.wellmaster.ca
SUMMARY:LONDON
DESCRIPTION:
URL:https://picksix.wellmaster.ca/delivery/london-17/
CATEGORIES:Red
END:VEVENT
BEGIN:VEVENT
DTSTART;VALUE=DATE:20210121
DTEND;VALUE=DATE:20210122
DTSTAMP:20260422T151321
CREATED:20210120T131337Z
LAST-MODIFIED:20210120T131337Z
UID:20557-1611187200-1611273599@picksix.wellmaster.ca
SUMMARY:SEAFORTH
DESCRIPTION:
URL:https://picksix.wellmaster.ca/delivery/seaforth-4/
CATEGORIES:Green
END:VEVENT
BEGIN:VEVENT
DTSTART;VALUE=DATE:20210121
DTEND;VALUE=DATE:20210122
DTSTAMP:20260422T151321
CREATED:20210120T131309Z
LAST-MODIFIED:20210120T131309Z
UID:20555-1611187200-1611273599@picksix.wellmaster.ca
SUMMARY:MISSISSAUGA
DESCRIPTION:
URL:https://picksix.wellmaster.ca/delivery/mississauga-2/
CATEGORIES:Black
END:VEVENT
BEGIN:VEVENT
DTSTART;VALUE=DATE:20210121
DTEND;VALUE=DATE:20210122
DTSTAMP:20260422T151321
CREATED:20210120T131239Z
LAST-MODIFIED:20210120T131239Z
UID:20552-1611187200-1611273599@picksix.wellmaster.ca
SUMMARY:TORONTO
DESCRIPTION:
URL:https://picksix.wellmaster.ca/delivery/toronto-23/
CATEGORIES:Red
END:VEVENT
BEGIN:VEVENT
DTSTART;VALUE=DATE:20210120
DTEND;VALUE=DATE:20210121
DTSTAMP:20260422T151321
CREATED:20210120T131220Z
LAST-MODIFIED:20210120T131220Z
UID:20549-1611100800-1611187199@picksix.wellmaster.ca
SUMMARY:TORONTO
DESCRIPTION:
URL:https://picksix.wellmaster.ca/delivery/toronto-22/
CATEGORIES:Green
END:VEVENT
BEGIN:VEVENT
DTSTART;VALUE=DATE:20210120
DTEND;VALUE=DATE:20210121
DTSTAMP:20260422T151321
CREATED:20210120T131204Z
LAST-MODIFIED:20210120T131204Z
UID:20547-1611100800-1611187199@picksix.wellmaster.ca
SUMMARY:LONDON
DESCRIPTION:
URL:https://picksix.wellmaster.ca/delivery/london-16/
CATEGORIES:Red
END:VEVENT
BEGIN:VEVENT
DTSTART;TZID=America/Toronto:20210113T080000
DTEND;TZID=America/Toronto:20210113T170000
DTSTAMP:20260422T151321
CREATED:20210112T130055Z
LAST-MODIFIED:20210112T130055Z
UID:20318-1610524800-1610557200@picksix.wellmaster.ca
SUMMARY:WATERLOO
DESCRIPTION:
URL:https://picksix.wellmaster.ca/delivery/waterloo-2/
CATEGORIES:Red
END:VEVENT
BEGIN:VEVENT
DTSTART;VALUE=DATE:20210113
DTEND;VALUE=DATE:20210114
DTSTAMP:20260422T151321
CREATED:20210112T130006Z
LAST-MODIFIED:20210112T130006Z
UID:20314-1610496000-1610582399@picksix.wellmaster.ca
SUMMARY:OAKVILLE
DESCRIPTION:
URL:https://picksix.wellmaster.ca/delivery/oakville-6/
CATEGORIES:Black
END:VEVENT
BEGIN:VEVENT
DTSTART;TZID=America/Toronto:20210112T080000
DTEND;TZID=America/Toronto:20210112T170000
DTSTAMP:20260422T151321
CREATED:20210112T125943Z
LAST-MODIFIED:20210112T125943Z
UID:20312-1610438400-1610470800@picksix.wellmaster.ca
SUMMARY:TORONTO
DESCRIPTION:
URL:https://picksix.wellmaster.ca/delivery/toronto-21/
CATEGORIES:Black
END:VEVENT
BEGIN:VEVENT
DTSTART;VALUE=DATE:20210112
DTEND;VALUE=DATE:20210113
DTSTAMP:20260422T151321
CREATED:20210112T130031Z
LAST-MODIFIED:20210112T130031Z
UID:20316-1610409600-1610495999@picksix.wellmaster.ca
SUMMARY:STRATHROY
DESCRIPTION:
URL:https://picksix.wellmaster.ca/delivery/strathroy-14/
CATEGORIES:Green
END:VEVENT
BEGIN:VEVENT
DTSTART;VALUE=DATE:20210111
DTEND;VALUE=DATE:20210112
DTSTAMP:20260422T151321
CREATED:20210108T142248Z
LAST-MODIFIED:20210108T142248Z
UID:20224-1610323200-1610409599@picksix.wellmaster.ca
SUMMARY:ORANGEVILLE
DESCRIPTION:
URL:https://picksix.wellmaster.ca/delivery/orangeville-3/
CATEGORIES:Black
END:VEVENT
BEGIN:VEVENT
DTSTART;VALUE=DATE:20210111
DTEND;VALUE=DATE:20210112
DTSTAMP:20260422T151321
CREATED:20210108T142209Z
LAST-MODIFIED:20210108T142209Z
UID:20222-1610323200-1610409599@picksix.wellmaster.ca
SUMMARY:MILTON
DESCRIPTION:
URL:https://picksix.wellmaster.ca/delivery/milton-5/
CATEGORIES:Black
END:VEVENT
BEGIN:VEVENT
DTSTART;VALUE=DATE:20210108
DTEND;VALUE=DATE:20210109
DTSTAMP:20260422T151321
CREATED:20210107T151459Z
LAST-MODIFIED:20210107T151459Z
UID:20191-1610064000-1610150399@picksix.wellmaster.ca
SUMMARY:LONDON
DESCRIPTION:
URL:https://picksix.wellmaster.ca/delivery/london-15/
CATEGORIES:Green
END:VEVENT
BEGIN:VEVENT
DTSTART;VALUE=DATE:20210108
DTEND;VALUE=DATE:20210109
DTSTAMP:20260422T151321
CREATED:20210107T151443Z
LAST-MODIFIED:20210107T151443Z
UID:20189-1610064000-1610150399@picksix.wellmaster.ca
SUMMARY:CHATHAM
DESCRIPTION:
URL:https://picksix.wellmaster.ca/delivery/chatham-4/
CATEGORIES:Black
END:VEVENT
BEGIN:VEVENT
DTSTART;VALUE=DATE:20210106
DTEND;VALUE=DATE:20210107
DTSTAMP:20260422T151321
CREATED:20210105T125459Z
LAST-MODIFIED:20210105T125459Z
UID:20100-1609891200-1609977599@picksix.wellmaster.ca
SUMMARY:TORONTO
DESCRIPTION:
URL:https://picksix.wellmaster.ca/delivery/toronto-20/
CATEGORIES:Green
END:VEVENT
BEGIN:VEVENT
DTSTART;VALUE=DATE:20210106
DTEND;VALUE=DATE:20210107
DTSTAMP:20260422T151321
CREATED:20210105T125443Z
LAST-MODIFIED:20210105T125443Z
UID:20098-1609891200-1609977599@picksix.wellmaster.ca
SUMMARY:BARRIE
DESCRIPTION:
URL:https://picksix.wellmaster.ca/delivery/barrie-21/
CATEGORIES:Black
END:VEVENT
BEGIN:VEVENT
DTSTART;VALUE=DATE:20210105
DTEND;VALUE=DATE:20210106
DTSTAMP:20260422T151321
CREATED:20210104T120142Z
LAST-MODIFIED:20210104T120142Z
UID:20058-1609804800-1609891199@picksix.wellmaster.ca
SUMMARY:LONDON
DESCRIPTION:
URL:https://picksix.wellmaster.ca/delivery/london-14/
CATEGORIES:Green
END:VEVENT
BEGIN:VEVENT
DTSTART;VALUE=DATE:20210104
DTEND;VALUE=DATE:20210105
DTSTAMP:20260422T151321
CREATED:20210104T120051Z
LAST-MODIFIED:20210104T120051Z
UID:20056-1609718400-1609804799@picksix.wellmaster.ca
SUMMARY:GUELPH
DESCRIPTION:
URL:https://picksix.wellmaster.ca/delivery/guelph-27/
CATEGORIES:Black
END:VEVENT
BEGIN:VEVENT
DTSTART;VALUE=DATE:20210101
DTEND;VALUE=DATE:20210102
DTSTAMP:20260422T151321
CREATED:20201217T133643Z
LAST-MODIFIED:20201217T133643Z
UID:19416-1609459200-1609545599@picksix.wellmaster.ca
SUMMARY:HAPPY NEW YEAR
DESCRIPTION:
URL:https://picksix.wellmaster.ca/delivery/happy-new-year/
CATEGORIES:Red
END:VEVENT
BEGIN:VEVENT
DTSTART;VALUE=DATE:20201225
DTEND;VALUE=DATE:20201226
DTSTAMP:20260422T151321
CREATED:20201217T133622Z
LAST-MODIFIED:20201217T133622Z
UID:19414-1608854400-1608940799@picksix.wellmaster.ca
SUMMARY:MERRY CHRISTMAS
DESCRIPTION:
URL:https://picksix.wellmaster.ca/delivery/merry-christmas/
CATEGORIES:Green
END:VEVENT
BEGIN:VEVENT
DTSTART;VALUE=DATE:20201224
DTEND;VALUE=DATE:20201225
DTSTAMP:20260422T151321
CREATED:20201223T131655Z
LAST-MODIFIED:20201223T131655Z
UID:19623-1608768000-1608854399@picksix.wellmaster.ca
SUMMARY:STRATHROY
DESCRIPTION:
URL:https://picksix.wellmaster.ca/delivery/strathroy-13/
CATEGORIES:Red
END:VEVENT
BEGIN:VEVENT
DTSTART;VALUE=DATE:20201223
DTEND;VALUE=DATE:20201224
DTSTAMP:20260422T151321
CREATED:20201222T134719Z
LAST-MODIFIED:20201222T134719Z
UID:19587-1608681600-1608767999@picksix.wellmaster.ca
SUMMARY:BARRIE
DESCRIPTION:
URL:https://picksix.wellmaster.ca/delivery/barrie-20/
CATEGORIES:Green
END:VEVENT
BEGIN:VEVENT
DTSTART;VALUE=DATE:20201223
DTEND;VALUE=DATE:20201224
DTSTAMP:20260422T151321
CREATED:20201222T134658Z
LAST-MODIFIED:20201222T134658Z
UID:19585-1608681600-1608767999@picksix.wellmaster.ca
SUMMARY:CAMBRIDGE
DESCRIPTION:
URL:https://picksix.wellmaster.ca/delivery/cambridge-7/
CATEGORIES:Black
END:VEVENT
BEGIN:VEVENT
DTSTART;VALUE=DATE:20201222
DTEND;VALUE=DATE:20201223
DTSTAMP:20260422T151321
CREATED:20201221T203517Z
LAST-MODIFIED:20201221T203517Z
UID:19545-1608595200-1608681599@picksix.wellmaster.ca
SUMMARY:GODERICH
DESCRIPTION:
URL:https://picksix.wellmaster.ca/delivery/goderich-11/
CATEGORIES:Black
END:VEVENT
END:VCALENDAR